BEGIN:VCALENDAR
VERSION:2.0
PRODID:-//jEvents 2.0 for Joomla//EN
CALSCALE:GREGORIAN
METHOD:PUBLISH
BEGIN:VEVENT
UID:bbd6d4807ece6b92eafb0ff0441102d8
CATEGORIES:Gemeindehaus
CREATED:20250106T191625
SUMMARY:558750
DESCRIPTION:
DTSTAMP:20260425T231126
DTSTART;VALUE=DATE:20260418
DTEND;VALUE=DATE:20260420
SEQUENCE:0
TRANSP:OPAQUE
END:VEVENT
END:VCALENDAR