BEGIN:VCALENDAR
VERSION:2.0
PRODID:-//jEvents 2.0 for Joomla//EN
CALSCALE:GREGORIAN
METHOD:PUBLISH
BEGIN:VEVENT
UID:7f54cae7eb042de3168fafa508464048
CATEGORIES:Gemeindehaus
CREATED:20250401T142602
SUMMARY:688037
DESCRIPTION:
DTSTAMP:20260426T031258
DTSTART;VALUE=DATE:20260408
DTEND;VALUE=DATE:20260413
SEQUENCE:0
TRANSP:OPAQUE
END:VEVENT
END:VCALENDAR