BEGIN:VCALENDAR
VERSION:2.0
PRODID:-//jEvents 2.0 for Joomla//EN
CALSCALE:GREGORIAN
METHOD:PUBLISH
BEGIN:VEVENT
UID:6cc91ad3aef1b94209566c07597d6dd3
CATEGORIES:Gemeindehaus
CREATED:20250807T193155
SUMMARY:Blocker
DESCRIPTION:
DTSTAMP:20260425T142728
DTSTART;VALUE=DATE:20260321
DTEND;VALUE=DATE:20260323
SEQUENCE:0
TRANSP:OPAQUE
END:VEVENT
END:VCALENDAR