BEGIN:VCALENDAR
VERSION:2.0
PRODID:-//jEvents 2.0 for Joomla//EN
CALSCALE:GREGORIAN
METHOD:PUBLISH
BEGIN:VEVENT
UID:6d4cd46556a7365ffa04970c5b811ae2
CATEGORIES:Schutzhütte
CREATED:20250901T131035
SUMMARY:627984
DESCRIPTION:
DTSTAMP:20260426T043914
DTSTART;VALUE=DATE:20260813
DTEND;VALUE=DATE:20260816
SEQUENCE:0
TRANSP:OPAQUE
END:VEVENT
END:VCALENDAR