BEGIN:VCALENDAR
VERSION:2.0
PRODID:-//jEvents 2.0 for Joomla//EN
CALSCALE:GREGORIAN
METHOD:PUBLISH
BEGIN:VEVENT
UID:a8aacb3ba394a311e9f7bd8685b04d33
CATEGORIES:Gemeindehaus
CREATED:20250915T111124
SUMMARY:631825
DESCRIPTION:
DTSTAMP:20260426T042313
DTSTART;VALUE=DATE:20260904
DTEND;VALUE=DATE:20260907
SEQUENCE:0
TRANSP:OPAQUE
END:VEVENT
END:VCALENDAR