BEGIN:VCALENDAR
VERSION:2.0
PRODID:-//jEvents 2.0 for Joomla//EN
CALSCALE:GREGORIAN
METHOD:PUBLISH
BEGIN:VEVENT
UID:11bdd6378bf746ee39d5b73d1e3e3ffc
CATEGORIES:Schutzhütte
CREATED:20251106T162752
SUMMARY:647403
DESCRIPTION:
DTSTAMP:20260425T200514
DTSTART;VALUE=DATE:20260220
DTEND;VALUE=DATE:20260223
SEQUENCE:0
TRANSP:OPAQUE
END:VEVENT
END:VCALENDAR