BEGIN:VCALENDAR
VERSION:2.0
PRODID:-//jEvents 2.0 for Joomla//EN
CALSCALE:GREGORIAN
METHOD:PUBLISH
BEGIN:VEVENT
UID:ab39e25f09103d472f31383d923e6fe0
CATEGORIES:Schutzhütte
CREATED:20251205T100811
SUMMARY:657865
DESCRIPTION:
DTSTAMP:20260425T231402
DTSTART;VALUE=DATE:20260102
DTEND;VALUE=DATE:20260104
SEQUENCE:0
TRANSP:OPAQUE
END:VEVENT
END:VCALENDAR