BEGIN:VCALENDAR
VERSION:2.0
PRODID:-//jEvents 2.0 for Joomla//EN
CALSCALE:GREGORIAN
METHOD:PUBLISH
BEGIN:VEVENT
UID:357ec971f194132115898f402f5a2107
CATEGORIES:Gemeindehaus
CREATED:20251205T110403
SUMMARY:Blocker
DESCRIPTION:
DTSTAMP:20260426T033019
DTSTART;VALUE=DATE:20260131
DTEND;VALUE=DATE:20260201
SEQUENCE:0
TRANSP:OPAQUE
END:VEVENT
END:VCALENDAR