BEGIN:VCALENDAR
VERSION:2.0
PRODID:-//jEvents 2.0 for Joomla//EN
CALSCALE:GREGORIAN
METHOD:PUBLISH
BEGIN:VEVENT
UID:1e309d8f490e08ec3ee1160da6f3f2cf
CATEGORIES:Schutzhütte
CREATED:20251216T105039
SUMMARY:661502
DESCRIPTION:
DTSTAMP:20260425T214227
DTSTART;VALUE=DATE:20260109
DTEND;VALUE=DATE:20260111
SEQUENCE:0
TRANSP:OPAQUE
END:VEVENT
END:VCALENDAR