BEGIN:VCALENDAR
VERSION:2.0
PRODID:-//jEvents 2.0 for Joomla//EN
CALSCALE:GREGORIAN
METHOD:PUBLISH
BEGIN:VEVENT
UID:c7b4aa8ad301f9c0ed2b55186accf750
CATEGORIES:Schutzhütte
CREATED:20260105T094101
SUMMARY:664938
DESCRIPTION:
DTSTAMP:20260426T052420
DTSTART;VALUE=DATE:20260619
DTEND;VALUE=DATE:20260622
SEQUENCE:0
TRANSP:OPAQUE
END:VEVENT
END:VCALENDAR