BEGIN:VCALENDAR
VERSION:2.0
PRODID:-//jEvents 2.0 for Joomla//EN
CALSCALE:GREGORIAN
METHOD:PUBLISH
BEGIN:VEVENT
UID:251d481f347597486f9fd0390c28a4e0
CATEGORIES:Gemeindehaus
CREATED:20260105T095115
SUMMARY:664941
DESCRIPTION:
DTSTAMP:20260426T043940
DTSTART;VALUE=DATE:20261226
DTEND;VALUE=DATE:20261228
SEQUENCE:0
TRANSP:OPAQUE
END:VEVENT
END:VCALENDAR