BEGIN:VCALENDAR
VERSION:2.0
PRODID:-//jEvents 2.0 for Joomla//EN
CALSCALE:GREGORIAN
METHOD:PUBLISH
BEGIN:VEVENT
UID:34c655de8b0bf490855dd5dfcc68d9bd
CATEGORIES:Gemeindehaus
CREATED:20260107T104108
SUMMARY:Blocker
DESCRIPTION:
DTSTAMP:20260425T173607
DTSTART;VALUE=DATE:20260306
DTEND;VALUE=DATE:20260308
SEQUENCE:0
TRANSP:OPAQUE
END:VEVENT
END:VCALENDAR