BEGIN:VCALENDAR
VERSION:2.0
PRODID:-//jEvents 2.0 for Joomla//EN
CALSCALE:GREGORIAN
METHOD:PUBLISH
BEGIN:VEVENT
UID:25302e4637c1ccd3f4c3d81758e1de12
CATEGORIES:Gemeindehaus
CREATED:20260112T150530
SUMMARY:668767
DESCRIPTION:
DTSTAMP:20260426T022314
DTSTART:20261218T070000
DTEND:20261220T160000
SEQUENCE:0
TRANSP:OPAQUE
END:VEVENT
END:VCALENDAR