BEGIN:VCALENDAR
VERSION:2.0
PRODID:-//jEvents 2.0 for Joomla//EN
CALSCALE:GREGORIAN
METHOD:PUBLISH
BEGIN:VEVENT
UID:02422aff1fc4035eea9a00ec6ef63886
CATEGORIES:Schutzhütte
CREATED:20260113T132609
SUMMARY:669283
DESCRIPTION:
DTSTAMP:20260425T215711
DTSTART;VALUE=DATE:20260529
DTEND;VALUE=DATE:20260601
SEQUENCE:0
TRANSP:OPAQUE
END:VEVENT
END:VCALENDAR