BEGIN:VCALENDAR
VERSION:2.0
PRODID:-//jEvents 2.0 for Joomla//EN
CALSCALE:GREGORIAN
METHOD:PUBLISH
BEGIN:VEVENT
UID:2e0cacc588029d820f00ba0978bfdf3a
CATEGORIES:Schutzhütte
CREATED:20260131T214948
SUMMARY:Blocker
DESCRIPTION:
DTSTAMP:20260426T025334
DTSTART;VALUE=DATE:20260612
DTEND;VALUE=DATE:20260615
SEQUENCE:0
TRANSP:OPAQUE
END:VEVENT
END:VCALENDAR