BEGIN:VCALENDAR
VERSION:2.0
PRODID:-//jEvents 2.0 for Joomla//EN
CALSCALE:GREGORIAN
METHOD:PUBLISH
BEGIN:VEVENT
UID:43e4398a52b82abcf9d3f0b240e9c41d
CATEGORIES:Gemeindehaus
CREATED:20260212T102701
SUMMARY:677748
DESCRIPTION:
DTSTAMP:20260425T211604
DTSTART;VALUE=DATE:20260626
DTEND;VALUE=DATE:20260630
SEQUENCE:0
TRANSP:OPAQUE
END:VEVENT
END:VCALENDAR