BEGIN:VCALENDAR
VERSION:2.0
PRODID:-//jEvents 2.0 for Joomla//EN
CALSCALE:GREGORIAN
METHOD:PUBLISH
BEGIN:VEVENT
UID:6f61cf23e7982e426d4483f64c7baf53
CATEGORIES:Gemeindehaus
CREATED:20260217T145407
SUMMARY:Blocker
DESCRIPTION:
DTSTAMP:20260425T200433
DTSTART;VALUE=DATE:20260314
DTEND;VALUE=DATE:20260315
SEQUENCE:0
TRANSP:OPAQUE
END:VEVENT
END:VCALENDAR