BEGIN:VCALENDAR
VERSION:2.0
PRODID:-//jEvents 2.0 for Joomla//EN
CALSCALE:GREGORIAN
METHOD:PUBLISH
BEGIN:VEVENT
UID:2ffd74cf7a6fea3c3950c421a384df19
CATEGORIES:Schutzhütte
CREATED:20260217T145759
SUMMARY:Blocker
DESCRIPTION:
DTSTAMP:20260425T131043
DTSTART;VALUE=DATE:20260402
DTEND;VALUE=DATE:20260406
SEQUENCE:0
TRANSP:OPAQUE
END:VEVENT
END:VCALENDAR