BEGIN:VCALENDAR
VERSION:2.0
PRODID:-//jEvents 2.0 for Joomla//EN
CALSCALE:GREGORIAN
METHOD:PUBLISH
BEGIN:VEVENT
UID:781772c0c3d527c9da18ddf42c0a27b5
CATEGORIES:Schutzhütte
CREATED:20260217T145854
SUMMARY:Blocker
DESCRIPTION:
DTSTAMP:20260425T130241
DTSTART;VALUE=DATE:20260418
DTEND;VALUE=DATE:20260419
SEQUENCE:0
TRANSP:OPAQUE
END:VEVENT
END:VCALENDAR