BEGIN:VCALENDAR
VERSION:2.0
PRODID:-//jEvents 2.0 for Joomla//EN
CALSCALE:GREGORIAN
METHOD:PUBLISH
BEGIN:VEVENT
UID:03ac20a92a9eb51825252a73bd5186ce
CATEGORIES:Schutzhütte
CREATED:20260319T110609
SUMMARY:688852
DESCRIPTION:
DTSTAMP:20260425T143221
DTSTART;VALUE=DATE:20260406
DTEND;VALUE=DATE:20260407
SEQUENCE:0
TRANSP:OPAQUE
END:VEVENT
END:VCALENDAR