BEGIN:VCALENDAR
VERSION:2.0
PRODID:-//jEvents 2.0 for Joomla//EN
CALSCALE:GREGORIAN
METHOD:PUBLISH
BEGIN:VEVENT
UID:b1e01245c0f1696d86f45e1539125bec
CATEGORIES:Schutzhütte
CREATED:20260324T155747
SUMMARY:691180
DESCRIPTION:
DTSTAMP:20260425T143216
DTSTART;VALUE=DATE:20260410
DTEND;VALUE=DATE:20260413
SEQUENCE:0
TRANSP:OPAQUE
END:VEVENT
END:VCALENDAR