BEGIN:VCALENDAR
VERSION:2.0
PRODID:-//jEvents 2.0 for Joomla//EN
CALSCALE:GREGORIAN
METHOD:PUBLISH
BEGIN:VEVENT
UID:b6fd59fc3e32767c43ec208900dd0a07
CATEGORIES:Gemeindehaus
CREATED:20260403T003955
SUMMARY:Blocker
DESCRIPTION:
DTSTAMP:20260425T155415
DTSTART;VALUE=DATE:20260428
DTEND;VALUE=DATE:20260429
SEQUENCE:0
TRANSP:OPAQUE
END:VEVENT
END:VCALENDAR