BEGIN:VCALENDAR
VERSION:2.0
PRODID:-//jEvents 2.0 for Joomla//EN
CALSCALE:GREGORIAN
METHOD:PUBLISH
BEGIN:VEVENT
UID:8333e8713c9dd537ea5d8ed351534738
CATEGORIES:Gemeindehaus
CREATED:20260403T004041
SUMMARY:Blocker
DESCRIPTION:
DTSTAMP:20260425T155420
DTSTART;VALUE=DATE:20260429
DTEND;VALUE=DATE:20260430
SEQUENCE:0
TRANSP:OPAQUE
END:VEVENT
END:VCALENDAR