BEGIN:VCALENDAR
VERSION:2.0
PRODID:-//jEvents 2.0 for Joomla//EN
CALSCALE:GREGORIAN
METHOD:PUBLISH
BEGIN:VEVENT
UID:0677b1e8ee1aa61fceda9342582604c5
CATEGORIES:Gemeindehaus
CREATED:20260408T190431
SUMMARY:Blocker
DESCRIPTION:
DTSTAMP:20260426T025159
DTSTART;VALUE=DATE:20270723
DTEND;VALUE=DATE:20270727
SEQUENCE:0
TRANSP:OPAQUE
END:VEVENT
END:VCALENDAR