BEGIN:VCALENDAR
VERSION:2.0
PRODID:-//jEvents 2.0 for Joomla//EN
CALSCALE:GREGORIAN
METHOD:PUBLISH
BEGIN:VEVENT
UID:57b48b681c2780cd39e3dd63c9c51e8b
CATEGORIES:Schutzhütte
CREATED:20260414T181433
SUMMARY:Blocker
DESCRIPTION:
DTSTAMP:20260425T195231
DTSTART;VALUE=DATE:20260508
DTEND;VALUE=DATE:20260509
SEQUENCE:0
TRANSP:OPAQUE
END:VEVENT
END:VCALENDAR