BEGIN:VCALENDAR
VERSION:2.0
PRODID:-//jEvents 2.0 for Joomla//EN
CALSCALE:GREGORIAN
METHOD:PUBLISH
BEGIN:VEVENT
UID:36ee92bceda746c2634de90f1c9509ce
CATEGORIES:Gemeindehaus
CREATED:20260414T204226
SUMMARY:Blocker
DESCRIPTION:
DTSTAMP:20260425T175226
DTSTART:20260506T160000
DTEND:20260506T210000
SEQUENCE:0
TRANSP:OPAQUE
END:VEVENT
END:VCALENDAR