BEGIN:VCALENDAR
VERSION:2.0
PRODID:-//jEvents 2.0 for Joomla//EN
CALSCALE:GREGORIAN
METHOD:PUBLISH
BEGIN:VEVENT
UID:82a02880aac05695f21b142399e1a67d
CATEGORIES:Schutzhütte
CREATED:20260424T215657
SUMMARY:700661
DESCRIPTION:
DTSTAMP:20260426T042314
DTSTART;VALUE=DATE:20261002
DTEND;VALUE=DATE:20261004
SEQUENCE:0
TRANSP:OPAQUE
END:VEVENT
END:VCALENDAR